BEGIN:VCALENDAR
VERSION:2.0
PRODID:-//Timossi Academy - ECPv6.15.18//NONSGML v1.0//EN
CALSCALE:GREGORIAN
METHOD:PUBLISH
X-ORIGINAL-URL:https://academy.timossi.it
X-WR-CALDESC:Eventi per Timossi Academy
REFRESH-INTERVAL;VALUE=DURATION:PT1H
X-Robots-Tag:noindex
X-PUBLISHED-TTL:PT1H
BEGIN:VTIMEZONE
TZID:Europe/Rome
BEGIN:DAYLIGHT
TZOFFSETFROM:+0100
TZOFFSETTO:+0200
TZNAME:CEST
DTSTART:20220327T010000
END:DAYLIGHT
BEGIN:STANDARD
TZOFFSETFROM:+0200
TZOFFSETTO:+0100
TZNAME:CET
DTSTART:20221030T010000
END:STANDARD
BEGIN:DAYLIGHT
TZOFFSETFROM:+0100
TZOFFSETTO:+0200
TZNAME:CEST
DTSTART:20230326T010000
END:DAYLIGHT
BEGIN:STANDARD
TZOFFSETFROM:+0200
TZOFFSETTO:+0100
TZNAME:CET
DTSTART:20231029T010000
END:STANDARD
BEGIN:DAYLIGHT
TZOFFSETFROM:+0100
TZOFFSETTO:+0200
TZNAME:CEST
DTSTART:20240331T010000
END:DAYLIGHT
BEGIN:STANDARD
TZOFFSETFROM:+0200
TZOFFSETTO:+0100
TZNAME:CET
DTSTART:20241027T010000
END:STANDARD
END:VTIMEZONE
BEGIN:VEVENT
DTSTART;TZID=Europe/Rome:20231106T133000
DTEND;TZID=Europe/Rome:20231106T173000
DTSTAMP:20260423T060715
CREATED:20231012T124409Z
LAST-MODIFIED:20231106T201935Z
UID:10000010-1699277400-1699291800@academy.timossi.it
SUMMARY:Excel base
DESCRIPTION:🍺 Dopo le fondamenta acquisite nel corso base\, questa lezione di approfondimento è pensata per portare la pratica della spillatura a un livello superiore. I partecipanti lavoreranno in modo intensivo sulla manualità\, con particolare attenzione a velocità e precisione\, due elementi chiave per una spillatura efficiente e di qualità. L’obiettivo è migliorare la gestione operativa del servizio\, riducendo sprechi e tempi di attesa\, senza compromettere – anzi\, valorizzando – la qualità della birra nel bicchiere e la percezione finale da parte del cliente. Il corso\, tenuto dal beer specialist Antonio Canale\, è fortemente pratico e consente di consolidare le competenze acquisite\, affinando il gesto tecnico e la consapevolezza del servizio. 🍻 Programma: nozioni tecniche sulla gestione dell’impianto (trattamento igienico-sanitario\, taratura\, pulizia)accenni di produzione della birratecniche di spillatura: alla belga olandese\, alla alpino tedesca\, alla angloscozzese\, alla gaelico irlandese (carboazoto o pompa)spillatura delle bottiglietrattamento (pulizia\, sgrassamento\, risciacquo) e scelta del bicchiere adatto  A chi si rivolge: A tutti coloro che hanno partecipato al corso base di I livello. Docente: Antonio Canale Quando: lunedì 23 marzo 2026 Orario lezioni: 11.00 – 16.30 Prezzo: 400€ Riconoscimenti: attestato di partecipazione Iscrizioni: compila il modulo
URL:https://academy.timossi.it/evento/excel-base/
LOCATION:Timossi Beverage & Food Solution\, Via Chiappella 7\, Serra Riccò\, Liguria\, 16010\, Italy
CATEGORIES:Excel base
ATTACH;FMTTYPE=image/jpeg:https://academy.timossi.it/wp-content/uploads/2023/10/779b2fc516fb73f418ec007a71b7ecbc.jpg
END:VEVENT
BEGIN:VEVENT
DTSTART;TZID=Europe/Rome:20231106T150000
DTEND;TZID=Europe/Rome:20231106T170000
DTSTAMP:20260423T060715
CREATED:20231012T124415Z
LAST-MODIFIED:20231106T201935Z
UID:10000011-1699282800-1699290000@academy.timossi.it
SUMMARY:Fondamenti di vino
DESCRIPTION:🍺 Dopo le fondamenta acquisite nel corso base\, questa lezione di approfondimento è pensata per portare la pratica della spillatura a un livello superiore. I partecipanti lavoreranno in modo intensivo sulla manualità\, con particolare attenzione a velocità e precisione\, due elementi chiave per una spillatura efficiente e di qualità. L’obiettivo è migliorare la gestione operativa del servizio\, riducendo sprechi e tempi di attesa\, senza compromettere – anzi\, valorizzando – la qualità della birra nel bicchiere e la percezione finale da parte del cliente. Il corso\, tenuto dal beer specialist Antonio Canale\, è fortemente pratico e consente di consolidare le competenze acquisite\, affinando il gesto tecnico e la consapevolezza del servizio. 🍻 Programma: nozioni tecniche sulla gestione dell’impianto (trattamento igienico-sanitario\, taratura\, pulizia)accenni di produzione della birratecniche di spillatura: alla belga olandese\, alla alpino tedesca\, alla angloscozzese\, alla gaelico irlandese (carboazoto o pompa)spillatura delle bottiglietrattamento (pulizia\, sgrassamento\, risciacquo) e scelta del bicchiere adatto  A chi si rivolge: A tutti coloro che hanno partecipato al corso base di I livello. Docente: Antonio Canale Quando: lunedì 23 marzo 2026 Orario lezioni: 11.00 – 16.30 Prezzo: 400€ Riconoscimenti: attestato di partecipazione Iscrizioni: compila il modulo
URL:https://academy.timossi.it/evento/fondamenti-di-vino/
LOCATION:Timossi Beverage & Food Solution\, 7 Via Chiappella\, Pedemonte\, Liguria\, 16010\, Italy
CATEGORIES:Fondamenti di vino
ATTACH;FMTTYPE=image/jpeg:https://academy.timossi.it/wp-content/uploads/2023/10/c91f6966fa9bd22635f63c9021e38f52.jpg
END:VEVENT
END:VCALENDAR