BEGIN:VCALENDAR
VERSION:2.0
PRODID:-//Timossi Academy - ECPv6.15.18//NONSGML v1.0//EN
CALSCALE:GREGORIAN
METHOD:PUBLISH
X-ORIGINAL-URL:https://academy.timossi.it
X-WR-CALDESC:Eventi per Timossi Academy
REFRESH-INTERVAL;VALUE=DURATION:PT1H
X-Robots-Tag:noindex
X-PUBLISHED-TTL:PT1H
BEGIN:VTIMEZONE
TZID:Europe/Rome
BEGIN:DAYLIGHT
TZOFFSETFROM:+0100
TZOFFSETTO:+0200
TZNAME:CEST
DTSTART:20220327T010000
END:DAYLIGHT
BEGIN:STANDARD
TZOFFSETFROM:+0200
TZOFFSETTO:+0100
TZNAME:CET
DTSTART:20221030T010000
END:STANDARD
BEGIN:DAYLIGHT
TZOFFSETFROM:+0100
TZOFFSETTO:+0200
TZNAME:CEST
DTSTART:20230326T010000
END:DAYLIGHT
BEGIN:STANDARD
TZOFFSETFROM:+0200
TZOFFSETTO:+0100
TZNAME:CET
DTSTART:20231029T010000
END:STANDARD
BEGIN:DAYLIGHT
TZOFFSETFROM:+0100
TZOFFSETTO:+0200
TZNAME:CEST
DTSTART:20240331T010000
END:DAYLIGHT
BEGIN:STANDARD
TZOFFSETFROM:+0200
TZOFFSETTO:+0100
TZNAME:CET
DTSTART:20241027T010000
END:STANDARD
END:VTIMEZONE
BEGIN:VEVENT
DTSTART;TZID=Europe/Rome:20231120T093000
DTEND;TZID=Europe/Rome:20231120T173000
DTSTAMP:20260423T060715
CREATED:20231004T135629Z
LAST-MODIFIED:20231120T203440Z
UID:10000007-1700472600-1700501400@academy.timossi.it
SUMMARY:Ospitalità e miscelazione base
DESCRIPTION:🍺 Dopo le fondamenta acquisite nel corso base\, questa lezione di approfondimento è pensata per portare la pratica della spillatura a un livello superiore. I partecipanti lavoreranno in modo intensivo sulla manualità\, con particolare attenzione a velocità e precisione\, due elementi chiave per una spillatura efficiente e di qualità. L’obiettivo è migliorare la gestione operativa del servizio\, riducendo sprechi e tempi di attesa\, senza compromettere – anzi\, valorizzando – la qualità della birra nel bicchiere e la percezione finale da parte del cliente. Il corso\, tenuto dal beer specialist Antonio Canale\, è fortemente pratico e consente di consolidare le competenze acquisite\, affinando il gesto tecnico e la consapevolezza del servizio. 🍻 Programma: nozioni tecniche sulla gestione dell’impianto (trattamento igienico-sanitario\, taratura\, pulizia)accenni di produzione della birratecniche di spillatura: alla belga olandese\, alla alpino tedesca\, alla angloscozzese\, alla gaelico irlandese (carboazoto o pompa)spillatura delle bottiglietrattamento (pulizia\, sgrassamento\, risciacquo) e scelta del bicchiere adatto  A chi si rivolge: A tutti coloro che hanno partecipato al corso base di I livello. Docente: Antonio Canale Quando: lunedì 23 marzo 2026 Orario lezioni: 11.00 – 16.30 Prezzo: 400€ Riconoscimenti: attestato di partecipazione Iscrizioni: compila il modulo
URL:https://academy.timossi.it/evento/ospitalita-e-miscelazione-base-2/
LOCATION:Timossi Beverage & Food Solution\, Via Chiappella 7\, Serra Riccò\, Liguria\, 16010\, Italy
CATEGORIES:Ospitalità e miscelazione base
ATTACH;FMTTYPE=image/jpeg:https://academy.timossi.it/wp-content/uploads/2023/11/13161bcbecf34ad04cb95e1a54ce3897-1.jpg
END:VEVENT
BEGIN:VEVENT
DTSTART;TZID=Europe/Rome:20231120T100000
DTEND;TZID=Europe/Rome:20231120T130000
DTSTAMP:20260423T060715
CREATED:20231110T112622Z
LAST-MODIFIED:20231120T114634Z
UID:10000018-1700474400-1700485200@academy.timossi.it
SUMMARY:Espressioni di focaccia
DESCRIPTION:🍺 Dopo le fondamenta acquisite nel corso base\, questa lezione di approfondimento è pensata per portare la pratica della spillatura a un livello superiore. I partecipanti lavoreranno in modo intensivo sulla manualità\, con particolare attenzione a velocità e precisione\, due elementi chiave per una spillatura efficiente e di qualità. L’obiettivo è migliorare la gestione operativa del servizio\, riducendo sprechi e tempi di attesa\, senza compromettere – anzi\, valorizzando – la qualità della birra nel bicchiere e la percezione finale da parte del cliente. Il corso\, tenuto dal beer specialist Antonio Canale\, è fortemente pratico e consente di consolidare le competenze acquisite\, affinando il gesto tecnico e la consapevolezza del servizio. 🍻 Programma: nozioni tecniche sulla gestione dell’impianto (trattamento igienico-sanitario\, taratura\, pulizia)accenni di produzione della birratecniche di spillatura: alla belga olandese\, alla alpino tedesca\, alla angloscozzese\, alla gaelico irlandese (carboazoto o pompa)spillatura delle bottiglietrattamento (pulizia\, sgrassamento\, risciacquo) e scelta del bicchiere adatto  A chi si rivolge: A tutti coloro che hanno partecipato al corso base di I livello. Docente: Antonio Canale Quando: lunedì 23 marzo 2026 Orario lezioni: 11.00 – 16.30 Prezzo: 400€ Riconoscimenti: attestato di partecipazione Iscrizioni: compila il modulo
URL:https://academy.timossi.it/evento/espressioni-di-focaccia/
LOCATION:MOG Mercato Orientale Genova\, XX Settembre 75 R\, Genova\, Liguria\, 16121\, Italy
CATEGORIES:Espressioni di focaccia
ATTACH;FMTTYPE=image/jpeg:https://academy.timossi.it/wp-content/uploads/2023/11/e0ea7a0c366d8d94169cecef2285f6b6-1.jpg
END:VEVENT
BEGIN:VEVENT
DTSTART;TZID=Europe/Rome:20231120T143000
DTEND;TZID=Europe/Rome:20231120T173000
DTSTAMP:20260423T060715
CREATED:20231027T113227Z
LAST-MODIFIED:20231120T203441Z
UID:10000016-1700490600-1700501400@academy.timossi.it
SUMMARY:Menù engineering & Drink cost
DESCRIPTION:🍺 Dopo le fondamenta acquisite nel corso base\, questa lezione di approfondimento è pensata per portare la pratica della spillatura a un livello superiore. I partecipanti lavoreranno in modo intensivo sulla manualità\, con particolare attenzione a velocità e precisione\, due elementi chiave per una spillatura efficiente e di qualità. L’obiettivo è migliorare la gestione operativa del servizio\, riducendo sprechi e tempi di attesa\, senza compromettere – anzi\, valorizzando – la qualità della birra nel bicchiere e la percezione finale da parte del cliente. Il corso\, tenuto dal beer specialist Antonio Canale\, è fortemente pratico e consente di consolidare le competenze acquisite\, affinando il gesto tecnico e la consapevolezza del servizio. 🍻 Programma: nozioni tecniche sulla gestione dell’impianto (trattamento igienico-sanitario\, taratura\, pulizia)accenni di produzione della birratecniche di spillatura: alla belga olandese\, alla alpino tedesca\, alla angloscozzese\, alla gaelico irlandese (carboazoto o pompa)spillatura delle bottiglietrattamento (pulizia\, sgrassamento\, risciacquo) e scelta del bicchiere adatto  A chi si rivolge: A tutti coloro che hanno partecipato al corso base di I livello. Docente: Antonio Canale Quando: lunedì 23 marzo 2026 Orario lezioni: 11.00 – 16.30 Prezzo: 400€ Riconoscimenti: attestato di partecipazione Iscrizioni: compila il modulo
URL:https://academy.timossi.it/evento/menu-engineering-drink-cost/
LOCATION:Timossi Beverage & Food Solution\, Via Chiappella 7\, Serra Riccò\, Liguria\, 16010\, Italy
CATEGORIES:Menu engineering e drink cost
ATTACH;FMTTYPE=image/jpeg:https://academy.timossi.it/wp-content/uploads/2023/10/4db93d976c4c7e6e54831bc8bc7921ac-1.jpg
END:VEVENT
END:VCALENDAR