BEGIN:VCALENDAR
VERSION:2.0
PRODID:-//Timossi Academy - ECPv6.15.18//NONSGML v1.0//EN
CALSCALE:GREGORIAN
METHOD:PUBLISH
X-WR-CALNAME:Timossi Academy
X-ORIGINAL-URL:https://academy.timossi.it
X-WR-CALDESC:Eventi per Timossi Academy
REFRESH-INTERVAL;VALUE=DURATION:PT1H
X-Robots-Tag:noindex
X-PUBLISHED-TTL:PT1H
BEGIN:VTIMEZONE
TZID:Europe/Rome
BEGIN:DAYLIGHT
TZOFFSETFROM:+0100
TZOFFSETTO:+0200
TZNAME:CEST
DTSTART:20240331T010000
END:DAYLIGHT
BEGIN:STANDARD
TZOFFSETFROM:+0200
TZOFFSETTO:+0100
TZNAME:CET
DTSTART:20241027T010000
END:STANDARD
BEGIN:DAYLIGHT
TZOFFSETFROM:+0100
TZOFFSETTO:+0200
TZNAME:CEST
DTSTART:20250330T010000
END:DAYLIGHT
BEGIN:STANDARD
TZOFFSETFROM:+0200
TZOFFSETTO:+0100
TZNAME:CET
DTSTART:20251026T010000
END:STANDARD
BEGIN:DAYLIGHT
TZOFFSETFROM:+0100
TZOFFSETTO:+0200
TZNAME:CEST
DTSTART:20260329T010000
END:DAYLIGHT
BEGIN:STANDARD
TZOFFSETFROM:+0200
TZOFFSETTO:+0100
TZNAME:CET
DTSTART:20261025T010000
END:STANDARD
BEGIN:DAYLIGHT
TZOFFSETFROM:+0100
TZOFFSETTO:+0200
TZNAME:CEST
DTSTART:20270328T010000
END:DAYLIGHT
BEGIN:STANDARD
TZOFFSETFROM:+0200
TZOFFSETTO:+0100
TZNAME:CET
DTSTART:20271031T010000
END:STANDARD
END:VTIMEZONE
BEGIN:VEVENT
DTSTART;TZID=Europe/Rome:20251013T093000
DTEND;TZID=Europe/Rome:20251027T173000
DTSTAMP:20260421T221859
CREATED:20250926T094448Z
LAST-MODIFIED:20251026T142614Z
UID:10000054-1760347800-1761586200@academy.timossi.it
SUMMARY:Ospitalità e miscelazione base
DESCRIPTION:🍺 Dopo le fondamenta acquisite nel corso base\, questa lezione di approfondimento è pensata per portare la pratica della spillatura a un livello superiore. I partecipanti lavoreranno in modo intensivo sulla manualità\, con particolare attenzione a velocità e precisione\, due elementi chiave per una spillatura efficiente e di qualità. L’obiettivo è migliorare la gestione operativa del servizio\, riducendo sprechi e tempi di attesa\, senza compromettere – anzi\, valorizzando – la qualità della birra nel bicchiere e la percezione finale da parte del cliente. Il corso\, tenuto dal beer specialist Antonio Canale\, è fortemente pratico e consente di consolidare le competenze acquisite\, affinando il gesto tecnico e la consapevolezza del servizio. 🍻 Programma: nozioni tecniche sulla gestione dell’impianto (trattamento igienico-sanitario\, taratura\, pulizia)accenni di produzione della birratecniche di spillatura: alla belga olandese\, alla alpino tedesca\, alla angloscozzese\, alla gaelico irlandese (carboazoto o pompa)spillatura delle bottiglietrattamento (pulizia\, sgrassamento\, risciacquo) e scelta del bicchiere adatto  A chi si rivolge: A tutti coloro che hanno partecipato al corso base di I livello. Docente: Antonio Canale Quando: lunedì 23 marzo 2026 Orario lezioni: 11.00 – 16.30 Prezzo: 400€ Riconoscimenti: attestato di partecipazione Iscrizioni: compila il modulo
URL:https://academy.timossi.it/evento/ospitalita-e-miscelazione-base-12/
LOCATION:Timossi Beverage & Food Solution\, Via Chiappella 7\, Serra Riccò\, Liguria\, 16010\, Italy
CATEGORIES:Ospitalità e miscelazione base
ATTACH;FMTTYPE=image/jpeg:https://academy.timossi.it/wp-content/uploads/2025/08/8dc296338a9e319791d086bd44a2ac9e-1.jpg
END:VEVENT
BEGIN:VEVENT
DTSTART;TZID=Europe/Rome:20251117T093000
DTEND;TZID=Europe/Rome:20251201T183000
DTSTAMP:20260421T221859
CREATED:20250926T094427Z
LAST-MODIFIED:20251127T021152Z
UID:10000056-1763371800-1764613800@academy.timossi.it
SUMMARY:Ospitalità e miscelazione base
DESCRIPTION:🍺 Dopo le fondamenta acquisite nel corso base\, questa lezione di approfondimento è pensata per portare la pratica della spillatura a un livello superiore. I partecipanti lavoreranno in modo intensivo sulla manualità\, con particolare attenzione a velocità e precisione\, due elementi chiave per una spillatura efficiente e di qualità. L’obiettivo è migliorare la gestione operativa del servizio\, riducendo sprechi e tempi di attesa\, senza compromettere – anzi\, valorizzando – la qualità della birra nel bicchiere e la percezione finale da parte del cliente. Il corso\, tenuto dal beer specialist Antonio Canale\, è fortemente pratico e consente di consolidare le competenze acquisite\, affinando il gesto tecnico e la consapevolezza del servizio. 🍻 Programma: nozioni tecniche sulla gestione dell’impianto (trattamento igienico-sanitario\, taratura\, pulizia)accenni di produzione della birratecniche di spillatura: alla belga olandese\, alla alpino tedesca\, alla angloscozzese\, alla gaelico irlandese (carboazoto o pompa)spillatura delle bottiglietrattamento (pulizia\, sgrassamento\, risciacquo) e scelta del bicchiere adatto  A chi si rivolge: A tutti coloro che hanno partecipato al corso base di I livello. Docente: Antonio Canale Quando: lunedì 23 marzo 2026 Orario lezioni: 11.00 – 16.30 Prezzo: 400€ Riconoscimenti: attestato di partecipazione Iscrizioni: compila il modulo
URL:https://academy.timossi.it/evento/ospitalita-e-miscelazione-base-11/
LOCATION:Timossi Beverage & Food Solution\, Via Chiappella 7\, Serra Riccò\, Liguria\, 16010\, Italy
CATEGORIES:Ospitalità e miscelazione base
ATTACH;FMTTYPE=image/jpeg:https://academy.timossi.it/wp-content/uploads/2025/08/c97e6d1321b75c5f6c01ffb8be9d10f3.jpg
END:VEVENT
BEGIN:VEVENT
DTSTART;TZID=Europe/Rome:20260126T093000
DTEND;TZID=Europe/Rome:20260127T173000
DTSTAMP:20260421T221859
CREATED:20250926T094410Z
LAST-MODIFIED:20260123T112032Z
UID:10000053-1769419800-1769535000@academy.timossi.it
SUMMARY:Miscelazione avanzata
DESCRIPTION:🍺 Dopo le fondamenta acquisite nel corso base\, questa lezione di approfondimento è pensata per portare la pratica della spillatura a un livello superiore. I partecipanti lavoreranno in modo intensivo sulla manualità\, con particolare attenzione a velocità e precisione\, due elementi chiave per una spillatura efficiente e di qualità. L’obiettivo è migliorare la gestione operativa del servizio\, riducendo sprechi e tempi di attesa\, senza compromettere – anzi\, valorizzando – la qualità della birra nel bicchiere e la percezione finale da parte del cliente. Il corso\, tenuto dal beer specialist Antonio Canale\, è fortemente pratico e consente di consolidare le competenze acquisite\, affinando il gesto tecnico e la consapevolezza del servizio. 🍻 Programma: nozioni tecniche sulla gestione dell’impianto (trattamento igienico-sanitario\, taratura\, pulizia)accenni di produzione della birratecniche di spillatura: alla belga olandese\, alla alpino tedesca\, alla angloscozzese\, alla gaelico irlandese (carboazoto o pompa)spillatura delle bottiglietrattamento (pulizia\, sgrassamento\, risciacquo) e scelta del bicchiere adatto  A chi si rivolge: A tutti coloro che hanno partecipato al corso base di I livello. Docente: Antonio Canale Quando: lunedì 23 marzo 2026 Orario lezioni: 11.00 – 16.30 Prezzo: 400€ Riconoscimenti: attestato di partecipazione Iscrizioni: compila il modulo
URL:https://academy.timossi.it/evento/miscelazione-avanzata-3/
LOCATION:Timossi Beverage & Food Solution\, Via Chiappella 7\, Serra Riccò\, Liguria\, 16010\, Italy
CATEGORIES:Miscelazione avanzata
ATTACH;FMTTYPE=image/jpeg:https://academy.timossi.it/wp-content/uploads/2025/08/028555b5d46dd397b5e5ec8cc9683266-1.jpg
END:VEVENT
BEGIN:VEVENT
DTSTART;TZID=Europe/Rome:20260223T093000
DTEND;TZID=Europe/Rome:20260223T173000
DTSTAMP:20260421T221859
CREATED:20250926T094342Z
LAST-MODIFIED:20260218T153355Z
UID:10000057-1771839000-1771867800@academy.timossi.it
SUMMARY:Ospitalità e miscelazione base
DESCRIPTION:🍺 Dopo le fondamenta acquisite nel corso base\, questa lezione di approfondimento è pensata per portare la pratica della spillatura a un livello superiore. I partecipanti lavoreranno in modo intensivo sulla manualità\, con particolare attenzione a velocità e precisione\, due elementi chiave per una spillatura efficiente e di qualità. L’obiettivo è migliorare la gestione operativa del servizio\, riducendo sprechi e tempi di attesa\, senza compromettere – anzi\, valorizzando – la qualità della birra nel bicchiere e la percezione finale da parte del cliente. Il corso\, tenuto dal beer specialist Antonio Canale\, è fortemente pratico e consente di consolidare le competenze acquisite\, affinando il gesto tecnico e la consapevolezza del servizio. 🍻 Programma: nozioni tecniche sulla gestione dell’impianto (trattamento igienico-sanitario\, taratura\, pulizia)accenni di produzione della birratecniche di spillatura: alla belga olandese\, alla alpino tedesca\, alla angloscozzese\, alla gaelico irlandese (carboazoto o pompa)spillatura delle bottiglietrattamento (pulizia\, sgrassamento\, risciacquo) e scelta del bicchiere adatto  A chi si rivolge: A tutti coloro che hanno partecipato al corso base di I livello. Docente: Antonio Canale Quando: lunedì 23 marzo 2026 Orario lezioni: 11.00 – 16.30 Prezzo: 400€ Riconoscimenti: attestato di partecipazione Iscrizioni: compila il modulo
URL:https://academy.timossi.it/evento/ospitalita-e-miscelazione-base-10/
LOCATION:Timossi Beverage & Food Solution\, Via Chiappella 7\, Serra Riccò\, Liguria\, 16010\, Italy
CATEGORIES:Ospitalità e miscelazione base
ATTACH;FMTTYPE=image/jpeg:https://academy.timossi.it/wp-content/uploads/2025/09/Copia-di-Eventbrite-Academy.jpg
END:VEVENT
BEGIN:VEVENT
DTSTART;TZID=Europe/Rome:20260223T110000
DTEND;TZID=Europe/Rome:20260223T163000
DTSTAMP:20260421T221859
CREATED:20250926T094420Z
LAST-MODIFIED:20260216T075958Z
UID:10000060-1771844400-1771864200@academy.timossi.it
SUMMARY:L'arte della spillatura - base
DESCRIPTION:🍺 Dopo le fondamenta acquisite nel corso base\, questa lezione di approfondimento è pensata per portare la pratica della spillatura a un livello superiore. I partecipanti lavoreranno in modo intensivo sulla manualità\, con particolare attenzione a velocità e precisione\, due elementi chiave per una spillatura efficiente e di qualità. L’obiettivo è migliorare la gestione operativa del servizio\, riducendo sprechi e tempi di attesa\, senza compromettere – anzi\, valorizzando – la qualità della birra nel bicchiere e la percezione finale da parte del cliente. Il corso\, tenuto dal beer specialist Antonio Canale\, è fortemente pratico e consente di consolidare le competenze acquisite\, affinando il gesto tecnico e la consapevolezza del servizio. 🍻 Programma: nozioni tecniche sulla gestione dell’impianto (trattamento igienico-sanitario\, taratura\, pulizia)accenni di produzione della birratecniche di spillatura: alla belga olandese\, alla alpino tedesca\, alla angloscozzese\, alla gaelico irlandese (carboazoto o pompa)spillatura delle bottiglietrattamento (pulizia\, sgrassamento\, risciacquo) e scelta del bicchiere adatto  A chi si rivolge: A tutti coloro che hanno partecipato al corso base di I livello. Docente: Antonio Canale Quando: lunedì 23 marzo 2026 Orario lezioni: 11.00 – 16.30 Prezzo: 400€ Riconoscimenti: attestato di partecipazione Iscrizioni: compila il modulo
URL:https://academy.timossi.it/evento/larte-della-spillatura-3/
LOCATION:Timossi Beverage & Food Solution\, Via Chiappella 7\, Serra Riccò\, Liguria\, 16010\, Italy
CATEGORIES:L’arte della spillatura
ATTACH;FMTTYPE=image/jpeg:https://academy.timossi.it/wp-content/uploads/2025/09/Spillatura-febbraio-Eventbrite.jpg
END:VEVENT
BEGIN:VEVENT
DTSTART;TZID=Europe/Rome:20260323T110000
DTEND;TZID=Europe/Rome:20260323T163000
DTSTAMP:20260421T221859
CREATED:20260210T085350Z
LAST-MODIFIED:20260216T075916Z
UID:10000061-1774263600-1774283400@academy.timossi.it
SUMMARY:L'arte della spillatura - intermedio
DESCRIPTION:🍺 Dopo le fondamenta acquisite nel corso base\, questa lezione di approfondimento è pensata per portare la pratica della spillatura a un livello superiore. I partecipanti lavoreranno in modo intensivo sulla manualità\, con particolare attenzione a velocità e precisione\, due elementi chiave per una spillatura efficiente e di qualità. L’obiettivo è migliorare la gestione operativa del servizio\, riducendo sprechi e tempi di attesa\, senza compromettere – anzi\, valorizzando – la qualità della birra nel bicchiere e la percezione finale da parte del cliente. Il corso\, tenuto dal beer specialist Antonio Canale\, è fortemente pratico e consente di consolidare le competenze acquisite\, affinando il gesto tecnico e la consapevolezza del servizio. 🍻 Programma: nozioni tecniche sulla gestione dell’impianto (trattamento igienico-sanitario\, taratura\, pulizia)accenni di produzione della birratecniche di spillatura: alla belga olandese\, alla alpino tedesca\, alla angloscozzese\, alla gaelico irlandese (carboazoto o pompa)spillatura delle bottiglietrattamento (pulizia\, sgrassamento\, risciacquo) e scelta del bicchiere adatto  A chi si rivolge: A tutti coloro che hanno partecipato al corso base di I livello. Docente: Antonio Canale Quando: lunedì 23 marzo 2026 Orario lezioni: 11.00 – 16.30 Prezzo: 400€ Riconoscimenti: attestato di partecipazione Iscrizioni: compila il modulo
URL:https://academy.timossi.it/evento/larte-della-spillatura-intermedio/
LOCATION:Timossi Beverage & Food Solution\, Via Chiappella 7\, Serra Riccò\, Liguria\, 16010\, Italy
CATEGORIES:L'arte della spillatura - intermedio,L’arte della spillatura
ATTACH;FMTTYPE=image/jpeg:https://academy.timossi.it/wp-content/uploads/2026/02/Arte-Spillatura-intermedio.jpg
END:VEVENT
END:VCALENDAR