BEGIN:VCALENDAR
VERSION:2.0
PRODID:-//Timossi Academy - ECPv6.15.18//NONSGML v1.0//EN
CALSCALE:GREGORIAN
METHOD:PUBLISH
X-WR-CALNAME:Timossi Academy
X-ORIGINAL-URL:https://academy.timossi.it
X-WR-CALDESC:Eventi per Timossi Academy
REFRESH-INTERVAL;VALUE=DURATION:PT1H
X-Robots-Tag:noindex
X-PUBLISHED-TTL:PT1H
BEGIN:VTIMEZONE
TZID:Europe/Rome
BEGIN:DAYLIGHT
TZOFFSETFROM:+0100
TZOFFSETTO:+0200
TZNAME:CEST
DTSTART:20230326T010000
END:DAYLIGHT
BEGIN:STANDARD
TZOFFSETFROM:+0200
TZOFFSETTO:+0100
TZNAME:CET
DTSTART:20231029T010000
END:STANDARD
BEGIN:DAYLIGHT
TZOFFSETFROM:+0100
TZOFFSETTO:+0200
TZNAME:CEST
DTSTART:20240331T010000
END:DAYLIGHT
BEGIN:STANDARD
TZOFFSETFROM:+0200
TZOFFSETTO:+0100
TZNAME:CET
DTSTART:20241027T010000
END:STANDARD
BEGIN:DAYLIGHT
TZOFFSETFROM:+0100
TZOFFSETTO:+0200
TZNAME:CEST
DTSTART:20250330T010000
END:DAYLIGHT
BEGIN:STANDARD
TZOFFSETFROM:+0200
TZOFFSETTO:+0100
TZNAME:CET
DTSTART:20251026T010000
END:STANDARD
END:VTIMEZONE
BEGIN:VEVENT
DTSTART;TZID=Europe/Rome:20240205T093000
DTEND;TZID=Europe/Rome:20240213T173000
DTSTAMP:20260423T010813
CREATED:20231201T151131Z
LAST-MODIFIED:20231205T083846Z
UID:10000025-1707125400-1707845400@academy.timossi.it
SUMMARY:Ospitalità e miscelazione base
DESCRIPTION:🍺 Dopo le fondamenta acquisite nel corso base\, questa lezione di approfondimento è pensata per portare la pratica della spillatura a un livello superiore. I partecipanti lavoreranno in modo intensivo sulla manualità\, con particolare attenzione a velocità e precisione\, due elementi chiave per una spillatura efficiente e di qualità. L’obiettivo è migliorare la gestione operativa del servizio\, riducendo sprechi e tempi di attesa\, senza compromettere – anzi\, valorizzando – la qualità della birra nel bicchiere e la percezione finale da parte del cliente. Il corso\, tenuto dal beer specialist Antonio Canale\, è fortemente pratico e consente di consolidare le competenze acquisite\, affinando il gesto tecnico e la consapevolezza del servizio. 🍻 Programma: nozioni tecniche sulla gestione dell’impianto (trattamento igienico-sanitario\, taratura\, pulizia)accenni di produzione della birratecniche di spillatura: alla belga olandese\, alla alpino tedesca\, alla angloscozzese\, alla gaelico irlandese (carboazoto o pompa)spillatura delle bottiglietrattamento (pulizia\, sgrassamento\, risciacquo) e scelta del bicchiere adatto  A chi si rivolge: A tutti coloro che hanno partecipato al corso base di I livello. Docente: Antonio Canale Quando: lunedì 23 marzo 2026 Orario lezioni: 11.00 – 16.30 Prezzo: 400€ Riconoscimenti: attestato di partecipazione Iscrizioni: compila il modulo
URL:https://academy.timossi.it/evento/ospitalita-e-miscelazione-base-3/
LOCATION:Timossi Beverage & Food Solution\, Via Chiappella 7\, Serra Riccò\, Liguria\, 16010\, Italy
CATEGORIES:Ospitalità e miscelazione base
ATTACH;FMTTYPE=image/jpeg:https://academy.timossi.it/wp-content/uploads/2023/12/sito-miscelazione-base-4-febr-1.jpg
END:VEVENT
BEGIN:VEVENT
DTSTART;TZID=Europe/Rome:20240205T143000
DTEND;TZID=Europe/Rome:20240205T163000
DTSTAMP:20260423T010814
CREATED:20240115T112307Z
LAST-MODIFIED:20240205T211154Z
UID:10000036-1707143400-1707150600@academy.timossi.it
SUMMARY:Birre Acide
DESCRIPTION:🍺 Dopo le fondamenta acquisite nel corso base\, questa lezione di approfondimento è pensata per portare la pratica della spillatura a un livello superiore. I partecipanti lavoreranno in modo intensivo sulla manualità\, con particolare attenzione a velocità e precisione\, due elementi chiave per una spillatura efficiente e di qualità. L’obiettivo è migliorare la gestione operativa del servizio\, riducendo sprechi e tempi di attesa\, senza compromettere – anzi\, valorizzando – la qualità della birra nel bicchiere e la percezione finale da parte del cliente. Il corso\, tenuto dal beer specialist Antonio Canale\, è fortemente pratico e consente di consolidare le competenze acquisite\, affinando il gesto tecnico e la consapevolezza del servizio. 🍻 Programma: nozioni tecniche sulla gestione dell’impianto (trattamento igienico-sanitario\, taratura\, pulizia)accenni di produzione della birratecniche di spillatura: alla belga olandese\, alla alpino tedesca\, alla angloscozzese\, alla gaelico irlandese (carboazoto o pompa)spillatura delle bottiglietrattamento (pulizia\, sgrassamento\, risciacquo) e scelta del bicchiere adatto  A chi si rivolge: A tutti coloro che hanno partecipato al corso base di I livello. Docente: Antonio Canale Quando: lunedì 23 marzo 2026 Orario lezioni: 11.00 – 16.30 Prezzo: 400€ Riconoscimenti: attestato di partecipazione Iscrizioni: compila il modulo
URL:https://academy.timossi.it/evento/birre-acide/
LOCATION:Liguria
CATEGORIES:Birre Acide
ATTACH;FMTTYPE=image/jpeg:https://academy.timossi.it/wp-content/uploads/2024/01/b84f4821f2ebd1b0f72a236ff8ae34c7-1.jpg
END:VEVENT
BEGIN:VEVENT
DTSTART;TZID=Europe/Rome:20240212T110000
DTEND;TZID=Europe/Rome:20240212T163000
DTSTAMP:20260423T010814
CREATED:20231004T135631Z
LAST-MODIFIED:20240212T221131Z
UID:10000008-1707735600-1707755400@academy.timossi.it
SUMMARY:L'arte della spillatura
DESCRIPTION:🍺 Dopo le fondamenta acquisite nel corso base\, questa lezione di approfondimento è pensata per portare la pratica della spillatura a un livello superiore. I partecipanti lavoreranno in modo intensivo sulla manualità\, con particolare attenzione a velocità e precisione\, due elementi chiave per una spillatura efficiente e di qualità. L’obiettivo è migliorare la gestione operativa del servizio\, riducendo sprechi e tempi di attesa\, senza compromettere – anzi\, valorizzando – la qualità della birra nel bicchiere e la percezione finale da parte del cliente. Il corso\, tenuto dal beer specialist Antonio Canale\, è fortemente pratico e consente di consolidare le competenze acquisite\, affinando il gesto tecnico e la consapevolezza del servizio. 🍻 Programma: nozioni tecniche sulla gestione dell’impianto (trattamento igienico-sanitario\, taratura\, pulizia)accenni di produzione della birratecniche di spillatura: alla belga olandese\, alla alpino tedesca\, alla angloscozzese\, alla gaelico irlandese (carboazoto o pompa)spillatura delle bottiglietrattamento (pulizia\, sgrassamento\, risciacquo) e scelta del bicchiere adatto  A chi si rivolge: A tutti coloro che hanno partecipato al corso base di I livello. Docente: Antonio Canale Quando: lunedì 23 marzo 2026 Orario lezioni: 11.00 – 16.30 Prezzo: 400€ Riconoscimenti: attestato di partecipazione Iscrizioni: compila il modulo
URL:https://academy.timossi.it/evento/larte-della-spillatura/
LOCATION:Liguria
CATEGORIES:L’arte della spillatura
ATTACH;FMTTYPE=image/jpeg:https://academy.timossi.it/wp-content/uploads/2023/11/4f876f0f06444d4a1e004018d6a2354c.jpg
END:VEVENT
BEGIN:VEVENT
DTSTART;TZID=Europe/Rome:20240226T100000
DTEND;TZID=Europe/Rome:20240227T170000
DTSTAMP:20260423T010814
CREATED:20240201T132656Z
LAST-MODIFIED:20240228T001728Z
UID:10000039-1708941600-1709053200@academy.timossi.it
SUMMARY:Gestione dello staff
DESCRIPTION:🍺 Dopo le fondamenta acquisite nel corso base\, questa lezione di approfondimento è pensata per portare la pratica della spillatura a un livello superiore. I partecipanti lavoreranno in modo intensivo sulla manualità\, con particolare attenzione a velocità e precisione\, due elementi chiave per una spillatura efficiente e di qualità. L’obiettivo è migliorare la gestione operativa del servizio\, riducendo sprechi e tempi di attesa\, senza compromettere – anzi\, valorizzando – la qualità della birra nel bicchiere e la percezione finale da parte del cliente. Il corso\, tenuto dal beer specialist Antonio Canale\, è fortemente pratico e consente di consolidare le competenze acquisite\, affinando il gesto tecnico e la consapevolezza del servizio. 🍻 Programma: nozioni tecniche sulla gestione dell’impianto (trattamento igienico-sanitario\, taratura\, pulizia)accenni di produzione della birratecniche di spillatura: alla belga olandese\, alla alpino tedesca\, alla angloscozzese\, alla gaelico irlandese (carboazoto o pompa)spillatura delle bottiglietrattamento (pulizia\, sgrassamento\, risciacquo) e scelta del bicchiere adatto  A chi si rivolge: A tutti coloro che hanno partecipato al corso base di I livello. Docente: Antonio Canale Quando: lunedì 23 marzo 2026 Orario lezioni: 11.00 – 16.30 Prezzo: 400€ Riconoscimenti: attestato di partecipazione Iscrizioni: compila il modulo
URL:https://academy.timossi.it/evento/gestione-dello-staff/
LOCATION:Timossi Beverage & Food Solution\, Via Chiappella 7\, Serra Riccò\, Liguria\, 16010\, Italy
CATEGORIES:Gestione dello staff
ATTACH;FMTTYPE=image/jpeg:https://academy.timossi.it/wp-content/uploads/2024/01/6faa6fc2fad60c5b8ec8c9670c70fdb4.jpg
END:VEVENT
BEGIN:VEVENT
DTSTART;TZID=Europe/Rome:20240226T143000
DTEND;TZID=Europe/Rome:20240226T163000
DTSTAMP:20260423T010814
CREATED:20240214T111424Z
LAST-MODIFIED:20240226T231855Z
UID:10000040-1708957800-1708965000@academy.timossi.it
SUMMARY:Birra tra tradizione e modernità
DESCRIPTION:🍺 Dopo le fondamenta acquisite nel corso base\, questa lezione di approfondimento è pensata per portare la pratica della spillatura a un livello superiore. I partecipanti lavoreranno in modo intensivo sulla manualità\, con particolare attenzione a velocità e precisione\, due elementi chiave per una spillatura efficiente e di qualità. L’obiettivo è migliorare la gestione operativa del servizio\, riducendo sprechi e tempi di attesa\, senza compromettere – anzi\, valorizzando – la qualità della birra nel bicchiere e la percezione finale da parte del cliente. Il corso\, tenuto dal beer specialist Antonio Canale\, è fortemente pratico e consente di consolidare le competenze acquisite\, affinando il gesto tecnico e la consapevolezza del servizio. 🍻 Programma: nozioni tecniche sulla gestione dell’impianto (trattamento igienico-sanitario\, taratura\, pulizia)accenni di produzione della birratecniche di spillatura: alla belga olandese\, alla alpino tedesca\, alla angloscozzese\, alla gaelico irlandese (carboazoto o pompa)spillatura delle bottiglietrattamento (pulizia\, sgrassamento\, risciacquo) e scelta del bicchiere adatto  A chi si rivolge: A tutti coloro che hanno partecipato al corso base di I livello. Docente: Antonio Canale Quando: lunedì 23 marzo 2026 Orario lezioni: 11.00 – 16.30 Prezzo: 400€ Riconoscimenti: attestato di partecipazione Iscrizioni: compila il modulo
URL:https://academy.timossi.it/evento/birra-tra-tradizione-e-modernita/
LOCATION:Liguria
CATEGORIES:Birra tra tradizione e modernità
ATTACH;FMTTYPE=image/jpeg:https://academy.timossi.it/wp-content/uploads/2024/02/5a501e62609caaf40e2dbdb1e6d8410c-1.jpg
END:VEVENT
END:VCALENDAR